BEGIN:VCALENDAR
VERSION:2.0
PRODID:-//1yoga: Йога для начинающих и йога видео! - ECPv6.9.1//NONSGML v1.0//EN
CALSCALE:GREGORIAN
METHOD:PUBLISH
X-WR-CALNAME:1yoga: Йога для начинающих и йога видео!
X-ORIGINAL-URL:https://1yoga.by
X-WR-CALDESC:Мероприятия для 1yoga: Йога для начинающих и йога видео!
REFRESH-INTERVAL;VALUE=DURATION:PT1H
X-Robots-Tag:noindex
X-PUBLISHED-TTL:PT1H
BEGIN:VTIMEZONE
TZID:UTC
BEGIN:STANDARD
TZOFFSETFROM:+0000
TZOFFSETTO:+0000
TZNAME:UTC
DTSTART:20160101T000000
END:STANDARD
END:VTIMEZONE
BEGIN:VEVENT
DTSTART;TZID=UTC:20160425T183000
DTEND;TZID=UTC:20160425T200000
DTSTAMP:20260420T031938
CREATED:20160425T073144Z
LAST-MODIFIED:20160425T073144Z
UID:16794-1461609000-1461614400@1yoga.by
SUMMARY:Групповыое занятие: "Эффективная йога для всех". Андрей Липень
DESCRIPTION:Занятие общего формата для всех желающих и любого уровня подготовки.. Общеукрепляющий комплекс «Эффективная йога» авторской разработки Андрея Липеня направлено на укрепление всех групп мышц. с элементами растяжек\, гибкости и силы. Используются так же пранаямы (дыхательные техники)\, короткая медитация\,. глубокое расслабление\nДля всех желающих с любым уровнем физической подготовки.\nВедет: Андрей ЛИПЕНЬ\nОб инструкторе…
URL:https://1yoga.by/event/gruppovy-oe-zanyatie-e-ffektivnaya-joga-dlya-vseh-andrej-lipen/
LOCATION:Мир йоги в Беларуси\, ул. Кальварийская\, 62\, Минск\, Беларусь
CATEGORIES:Групповые занятия с Андреем Липенем
ATTACH;FMTTYPE=image/png:https://1yoga.by/wp-content/uploads/2016/04/grup_zan-e1461580026691.png
ORGANIZER;CN="%D0%A6%D0%B5%D0%BD%D1%82%D1%80 %D0%B9%D0%BE%D0%B3%D0%B8 '%D0%9C%D0%B8%D1%80 %D0%B9%D0%BE%D0%B3%D0%B8 %D0%B2 %D0%91%D0%B5%D0%BB%D0%B0%D1%80%D1%83%D1%81%D0%B8'":MAILTO:1@1yoga.by
END:VEVENT
END:VCALENDAR