BEGIN:VCALENDAR
VERSION:2.0
PRODID:-//1yoga: Йога для начинающих и йога видео! - ECPv6.9.1//NONSGML v1.0//EN
CALSCALE:GREGORIAN
METHOD:PUBLISH
X-WR-CALNAME:1yoga: Йога для начинающих и йога видео!
X-ORIGINAL-URL:https://1yoga.by
X-WR-CALDESC:Мероприятия для 1yoga: Йога для начинающих и йога видео!
REFRESH-INTERVAL;VALUE=DURATION:PT1H
X-Robots-Tag:noindex
X-PUBLISHED-TTL:PT1H
BEGIN:VTIMEZONE
TZID:UTC
BEGIN:STANDARD
TZOFFSETFROM:+0000
TZOFFSETTO:+0000
TZNAME:UTC
DTSTART:20160101T000000
END:STANDARD
END:VTIMEZONE
BEGIN:VEVENT
DTSTART;TZID=UTC:20160826T170000
DTEND;TZID=UTC:20160828T190000
DTSTAMP:20260420T081654
CREATED:20160517T070828Z
LAST-MODIFIED:20160823T053806Z
UID:16868-1472230800-1472410800@1yoga.by
SUMMARY:26-28 августа\, выездной йога-ретрит по программе "Эффективная йога часть 2"
DESCRIPTION:Дорогие друзья!\nСделайте себе подарок и получите качественный и эффективный отдых вместе с йогой всего за три дня как за целую неделю в отпуске!\nЗаезд 26 августа\, пятница в любое время после 17:00. Начало занятий в 19:00!\nВыезд 28 августа\, воскресенье после 18:00\n    \n  В программе: \n1. Ежедневная разнообразная комплексная практика йоги (асаны\, виньясаны\, йога-нидра\, пранаяма\, медитации\, мантры и др.) по утрам с Андреем Липенем: \n— Изучение и выполнение практики Танец Шивы 1 уровень \n— Sur’ânamaskara Йога — Йога Мандала — хатха-йога \n— Кундалини йога с выполнением бандх и направлением энергии \n— Малоизвестные практики и авторские разработки \n— Крийя 8-ми кругов \n2. Дневная практика разнообразных пранаям и медитаций\, знания\, асаны на растяжку\, йога в парах\, элементы тибетского массажа\, тренинги в группе\, игры\, динамичные медитации и т.д. \n3. Вечерний сатсанг:\n— Знания и мудрость йоги и аюрведы\, практическая философия на каждый день. Беседы на жизненно важные темы о взаимоотношениях\, Карме\, Дхарме\, Любви и мн. др. с Андреем Липенем на основе древних знаний\, современных следований\, видения тонких\, скрытых возможностей и личного опыта. \n— Йога Сутры патанджали и упанишады с Андреем Липенем. \n— Просмотр художественных видеофильмов со смыслом для души. — пение на санскрите и не только… \n\nПриблизительное расписание  дня: \nс 7:00 до 9:30  — утренняя йогическая практика\, асаны\, пранаямы\, медитация \nс 9:30 до 10:00  — личное время на умывание и душ \nс 10:00 до 11:00 — завтрак \nс 11:00 до 12:30 — практика танца Шивы + пранаямы и медитация \nс 12:30 до 13:30 — практика кулинарии: готовим быстро и вкусно по вегетариански \nс 13:30 до 14:30 — обед \nс 14:30 до 15:30 — свободное время \n1 вариант: \nс 15:30 до 16:30 — видео знания\, лекции\, мудрость йоги \nс 16:30 до 17:00 — обсуждение просмотренного видео \n2 вариант: \nс 15:30 до 17:00 — беседы на важные темы\, тренинги в группе\, игры\, динамичные медитации \n3 вариант: \nс 15:30 до 16:00  — игровые тренинги\, беседы на важные темы \nс 16:00 до 17:00 — йога в парах на растяжку мышц + тибетский массаж \nс 17:00 до 18:00 — практика кулинарии: готовим быстро и вкусно по вегетариански \nс 18:00 до 19:00 — ужин \nс 19:00 до 19:30 — свободное время \nс 19:30 до 22:00 — знания\, йога сутры патанджали\, пение на санскрите\, изучение мантр\, просмотр видео фильмов с глубоким смыслом для ума\, тела и души \nМесто и условия проживания \nДачный кооператив в 30 км от Минска рядом с рекой по направлению Руденск. \n \n\n\n \n  \nВ комнатах по 2-3 человека. Туалет на улице.\nВыезд на большое чистое озеро для купания и практик. \nВ стоимость входит двух разовое посещение сауны за период нашего пребывания \nСтоимость основной программы с проживанием и трех разовым питанием  \n269 бел.руб. при оплате до  25.08.2016 (включительно) \n299 бел.руб. при оплате с 26.08.2016 (непосредственно на семинаре) \nКак доехать \nСхему проезда мы вышлем вам после регистрации и оплаты. \nВозможен централизованный заезд и отъезд на микроавтобусе\, оплачивается отдельно. Стоимость зависит от количества человек. \nДругие мероприятия в ближайшее время
URL:https://1yoga.by/event/yoga_retrit/
LOCATION:Рыбцы\, Рыбцы\, Минская облость\, Беларусь
CATEGORIES:Выездные в ЭКОДОМЕ,Семинары и курсы с Андреем Липенем
ATTACH;FMTTYPE=image/png:https://1yoga.by/wp-content/uploads/2015/05/joga-na-prirode.png
ORGANIZER;CN="%D0%A6%D0%B5%D0%BD%D1%82%D1%80 %D0%B9%D0%BE%D0%B3%D0%B8 '%D0%9C%D0%B8%D1%80 %D0%B9%D0%BE%D0%B3%D0%B8 %D0%B2 %D0%91%D0%B5%D0%BB%D0%B0%D1%80%D1%83%D1%81%D0%B8'":MAILTO:1@1yoga.by
END:VEVENT
END:VCALENDAR